BEGIN:VCALENDAR
VERSION:2.0
PRODID:icalendar-ruby
CALSCALE:GREGORIAN
METHOD:PUBLISH
BEGIN:VEVENT
DTSTAMP:20260425T155508Z
UID:28-766489@fcogtoledo.com
DTSTART:20260810T220000Z
DTEND:20260810T231500Z
CLASS:PUBLIC
CREATED:20260425T110204
DESCRIPTION:You may also use One tap mobile to access Bible Study class by 
 calling in.\n+16465588656  2710502660#  *930018# US (New York)\n\n+16469
 313860  2710502660#  *930018# US\n\nCore Team: Phyllis Keith\,  Alyssa 
 Munn\, Jera Stewart\,  Antonia Waldon\, Judy Waldon\, and Lois Mason Will
 iams.
LAST-MODIFIED:20260425T110204
LOCATION:Zoom ID: 271 050 2660 Passcode: H6cm2b or One Tap Mobile Access pr
 ovided under the event page.
SUMMARY:Women Gathered In Grace Bible Study
URL;VALUE=URI:https://www.fcogtoledo.com/events/women-gathered-in-grace-bib
 le-study/2026-08-10
ATTACH;FILENAME=Women-Gathered-In-Grace-01-20261.jpg;FMTTYPE=image/jpeg:htt
 ps://dq5pwpg1q8ru0.cloudfront.net/2026/01/21/03/40/09/0ac888ab-1436-4daa-9
 10f-d9492c8ba025/Women-Gathered-In-Grace-01-20261.jpg
END:VEVENT
END:VCALENDAR
